BEGIN:VCALENDAR
VERSION:2.0
PRODID:-//香港明德會 - ECPv6.15.20//NONSGML v1.0//EN
CALSCALE:GREGORIAN
METHOD:PUBLISH
X-ORIGINAL-URL:https://hkmingde.org
X-WR-CALDESC:香港明德會的活动
REFRESH-INTERVAL;VALUE=DURATION:PT1H
X-Robots-Tag:noindex
X-PUBLISHED-TTL:PT1H
BEGIN:VTIMEZONE
TZID:Asia/Shanghai
BEGIN:STANDARD
TZOFFSETFROM:+0800
TZOFFSETTO:+0800
TZNAME:CST
DTSTART:20220101T000000
END:STANDARD
END:VTIMEZONE
BEGIN:VEVENT
DTSTART;TZID=Asia/Shanghai:20230812T093000
DTEND;TZID=Asia/Shanghai:20230812T120000
DTSTAMP:20260422T043428
CREATED:20230812T062027Z
LAST-MODIFIED:20230809T062208Z
UID:18971-1691832600-1691841600@hkmingde.org
SUMMARY:廢物回收處理體驗 
DESCRIPTION:活動簡介： \n參加者將參觀碧瑤廢物分揀及回收中心的設施，了解整個回收系統的運作原理以及在回收過程中所面臨的挑戰；進入廢物分類處理場地，觀察專業人員如何進行分類處理工作；親自體驗分類處理垃圾的過程，了解不同種類的垃圾應該如何處理和分類，讓大家更加深入地了解正確分類回收的重要性。 \n活動合作單位：碧瑤廢物處理及回收有限公司\n活動日期：8月12日\n活動時間：上午9時半至12時\n集合地點：粉嶺港鐵站（包旅遊巴） \n交通安排：\n0930於粉嶺地鐵站C出口集合；\n0940旅遊巴準時開出，逾時不候；\n1000-1200為參觀及體驗時間；\n活動結束後旅遊巴接送參加者至粉嶺港鐵站或黃埔海濱廣場\n活動名額有限，先報先得，額滿即止。\n名額：25位 \n備註：\n參觀期間必須正確佩戴口罩。\n請穿著長褲及密頭鞋，不可穿著涼鞋或拖鞋。\n廠房範圍內須束起長髮，收起寬鬆衣物/飾物(如領帶、頸巾等)，以免被機械捲入發生意外。\n請自備適當防曬用品、蚊怕水及飲用水。
URL:https://hkmingde.org/event/%e5%bb%a2%e7%89%a9%e5%9b%9e%e6%94%b6%e8%99%95%e7%90%86%e9%ab%94%e9%a9%97/
CATEGORIES:環境保護,義工服務
ATTACH;FMTTYPE=image/jpeg:https://hkmingde.org/wp-content/uploads/2023/06/WhatsApp-Image-2023-08-09-at-12.02.45.jpeg
END:VEVENT
BEGIN:VEVENT
DTSTART;TZID=Asia/Shanghai:20230611T140000
DTEND;TZID=Asia/Shanghai:20230611T160000
DTSTAMP:20260422T043428
CREATED:20230607T074013Z
LAST-MODIFIED:20230607T074013Z
UID:18811-1686492000-1686499200@hkmingde.org
SUMMARY:郊野清潔行動
DESCRIPTION:屯門小欖為燒烤熱門地點，但可惜當地遍佈垃圾，現邀請各位義工一同參與「郊野清潔行動」，一同攜手清潔香港郊野，保護香港天然資源。 \n服務地點：屯門小欖\n集合地點：屯門澄麗路 巴士站 \n備注：\n1. 參加者須自備足夠飲用水（建議為1公升）或所需乾糧，建議自備可重用之水樽及餐具，避免沿途棄置廢物\n2. 如當天上午7時15分懸掛三號或以上熱帶氣旋警告信號、任何暴雨警告訊號，活動將自動消\n3. 參加者請自備防水／勞工手套 / 防曬
URL:https://hkmingde.org/event/%e9%83%8a%e9%87%8e%e6%b8%85%e6%bd%94%e8%a1%8c%e5%8b%95/
CATEGORIES:環境保護,義工服務
END:VEVENT
END:VCALENDAR